BEGIN:VCALENDAR
VERSION:2.0
PRODID:-//Unitas-Hetania - ECPv6.15.20//NONSGML v1.0//EN
CALSCALE:GREGORIAN
METHOD:PUBLISH
X-WR-CALNAME:Unitas-Hetania
X-ORIGINAL-URL:https://unitas-hetania.de
X-WR-CALDESC:Veranstaltungen für Unitas-Hetania
REFRESH-INTERVAL;VALUE=DURATION:PT1H
X-Robots-Tag:noindex
X-PUBLISHED-TTL:PT1H
BEGIN:VTIMEZONE
TZID:Europe/Berlin
BEGIN:DAYLIGHT
TZOFFSETFROM:+0100
TZOFFSETTO:+0200
TZNAME:CEST
DTSTART:20250330T010000
END:DAYLIGHT
BEGIN:STANDARD
TZOFFSETFROM:+0200
TZOFFSETTO:+0100
TZNAME:CET
DTSTART:20251026T010000
END:STANDARD
BEGIN:DAYLIGHT
TZOFFSETFROM:+0100
TZOFFSETTO:+0200
TZNAME:CEST
DTSTART:20260329T010000
END:DAYLIGHT
BEGIN:STANDARD
TZOFFSETFROM:+0200
TZOFFSETTO:+0100
TZNAME:CET
DTSTART:20261025T010000
END:STANDARD
BEGIN:DAYLIGHT
TZOFFSETFROM:+0100
TZOFFSETTO:+0200
TZNAME:CEST
DTSTART:20270328T010000
END:DAYLIGHT
BEGIN:STANDARD
TZOFFSETFROM:+0200
TZOFFSETTO:+0100
TZNAME:CET
DTSTART:20271031T010000
END:STANDARD
END:VTIMEZONE
BEGIN:VEVENT
DTSTART;TZID=Europe/Berlin:20260501T100000
DTEND;TZID=Europe/Berlin:20260501T170000
DTSTAMP:20260420T134222
CREATED:20260330T160201Z
LAST-MODIFIED:20260330T160201Z
UID:1049-1777629600-1777654800@unitas-hetania.de
SUMMARY:Maiwanderung (io)
DESCRIPTION:
URL:https://unitas-hetania.de/veranstaltung/maiwanderung-io/
LOCATION:Unitas-Haus\, Schellingstraße 19\, Würzburg\, Bayern\, 97074\, Germany
END:VEVENT
BEGIN:VEVENT
DTSTART;TZID=Europe/Berlin:20260505T201500
DTEND;TZID=Europe/Berlin:20260505T230000
DTSTAMP:20260420T134222
CREATED:20260330T160237Z
LAST-MODIFIED:20260330T160237Z
UID:1051-1778012100-1778022000@unitas-hetania.de
SUMMARY:Convent (o)
DESCRIPTION:
URL:https://unitas-hetania.de/veranstaltung/convent-o-3/
LOCATION:Unitas-Haus\, Schellingstraße 19\, Würzburg\, Bayern\, 97074\, Germany
END:VEVENT
BEGIN:VEVENT
DTSTART;TZID=Europe/Berlin:20260506T201500
DTEND;TZID=Europe/Berlin:20260506T233000
DTSTAMP:20260420T134222
CREATED:20260330T160339Z
LAST-MODIFIED:20260330T160339Z
UID:1053-1778098500-1778110200@unitas-hetania.de
SUMMARY:2. Wissenschaftliche Sitzung
DESCRIPTION:Sonja Krause\, B.Sc. \n„Genomic Imprinting“
URL:https://unitas-hetania.de/veranstaltung/2-wissenschaftliche-sitzung/
LOCATION:Unitas-Haus\, Schellingstraße 19\, Würzburg\, Bayern\, 97074\, Germany
END:VEVENT
BEGIN:VEVENT
DTSTART;TZID=Europe/Berlin:20260508T000000
DTEND;TZID=Europe/Berlin:20260510T235959
DTSTAMP:20260420T134222
CREATED:20260330T160445Z
LAST-MODIFIED:20260330T160445Z
UID:1055-1778198400-1778457599@unitas-hetania.de
SUMMARY:149. Generalversammlung in Paderborn
DESCRIPTION:„Werte\, Wille\, Wandel: gemeinsam in die Zukunft!“
URL:https://unitas-hetania.de/veranstaltung/149-generalversammlung-in-paderborn/
LOCATION:Bayern
END:VEVENT
BEGIN:VEVENT
DTSTART;TZID=Europe/Berlin:20260515T073000
DTEND;TZID=Europe/Berlin:20260515T090000
DTSTAMP:20260420T134222
CREATED:20260330T160634Z
LAST-MODIFIED:20260330T160634Z
UID:1057-1778830200-1778835600@unitas-hetania.de
SUMMARY:Pontifikalamt im Neumünster (o)
DESCRIPTION:im Rahmen des 104. Deutschen Katholikentag in Würzburg
URL:https://unitas-hetania.de/veranstaltung/pontifikalamt-im-neumuenster-o/
LOCATION:Bayern
END:VEVENT
BEGIN:VEVENT
DTSTART;TZID=Europe/Berlin:20260515T201500
DTEND;TZID=Europe/Berlin:20260515T230000
DTSTAMP:20260420T134222
CREATED:20260330T160728Z
LAST-MODIFIED:20260330T160728Z
UID:1059-1778876100-1778886000@unitas-hetania.de
SUMMARY:Festkommers (sic) im Studentenhaus (o)
DESCRIPTION:im Rahmen des 104. Deutschen Katholikentag in Würzburg
URL:https://unitas-hetania.de/veranstaltung/festkommers-sic-im-studentenhaus-o/
LOCATION:Bayern
END:VEVENT
BEGIN:VEVENT
DTSTART;TZID=Europe/Berlin:20260521T160000
DTEND;TZID=Europe/Berlin:20260521T170000
DTSTAMP:20260420T134222
CREATED:20260330T160820Z
LAST-MODIFIED:20260330T161008Z
UID:1061-1779379200-1779382800@unitas-hetania.de
SUMMARY:LaserTag (io)
DESCRIPTION:
URL:https://unitas-hetania.de/veranstaltung/lasertag-io/
LOCATION:Bayern
END:VEVENT
BEGIN:VEVENT
DTSTART;TZID=Europe/Berlin:20260526T201500
DTEND;TZID=Europe/Berlin:20260526T230000
DTSTAMP:20260420T134222
CREATED:20260330T161110Z
LAST-MODIFIED:20260330T161110Z
UID:1066-1779826500-1779836400@unitas-hetania.de
SUMMARY:Liederabend (io)
DESCRIPTION:
URL:https://unitas-hetania.de/veranstaltung/liederabend-io/
LOCATION:Unitas-Haus\, Schellingstraße 19\, Würzburg\, Bayern\, 97074\, Germany
END:VEVENT
BEGIN:VEVENT
DTSTART;TZID=Europe/Berlin:20260528T180000
DTEND;TZID=Europe/Berlin:20260528T190000
DTSTAMP:20260420T134222
CREATED:20260330T161224Z
LAST-MODIFIED:20260330T161224Z
UID:1068-1779991200-1779994800@unitas-hetania.de
SUMMARY:Glaubensimpuls (o)
DESCRIPTION:Günther Kirchner\, Dipl.-Theol. \n  \nMutterhausareal\, Domerschulstraße 1
URL:https://unitas-hetania.de/veranstaltung/glaubensimpuls-o-2/
LOCATION:Bayern
END:VEVENT
BEGIN:VEVENT
DTSTART;TZID=Europe/Berlin:20260530T201500
DTEND;TZID=Europe/Berlin:20260530T230000
DTSTAMP:20260420T134222
CREATED:20260330T162322Z
LAST-MODIFIED:20260416T102827Z
UID:1086-1780172100-1780182000@unitas-hetania.de
SUMMARY:Fuxenkneipe (io)
DESCRIPTION:
URL:https://unitas-hetania.de/veranstaltung/fuxenkneipe-io/
LOCATION:Unitas-Haus\, Schellingstraße 19\, Würzburg\, Bayern\, 97074\, Germany
END:VEVENT
END:VCALENDAR